BEGIN:VCALENDAR
VERSION:2.0
CALSCALE:GREGORIAN
PRODID:adamgibbons/ics
METHOD:PUBLISH
X-PUBLISHED-TTL:PT1H
BEGIN:VEVENT
UID:640@lapunta.org
SUMMARY:2 GIUGNO MANIFESTAZIONE NAZIONALE - NESSUNA BASE PER NESSUNA GUERRA
	  PER QUESTO\, PER ALTRO\, PER TUTTO!
DTSTAMP:20260419T230603Z
DTSTART:20220602T123000Z
DTEND:20220602T160000Z
DESCRIPTION:2 GIUGNO MANIFESTAZIONE NAZIONALE - NESSUNA BASE PER NESSUNA GU
	ERRA\n\nPER QUESTO\, PER ALTRO\, PER TUTTO!\n\n190 milioni di soldi pubbli
	ci per una nuova base militare. 73 ettari di\nterritorio\, all’interno di 
	un parco naturale\, sottratti alla comunità. 440.000\nmetri cubi cementifi
	cati per costruire piste di atterraggio\, villette a schiera\nper i milita
	ri del reggimento Tuscania\, piscine\, palestre\, e altri benefit.\n\nUna 
	nuova base in un territorio già insopportabilmente militarizzato che sta\n
	diventando uno strategico hub della guerra\, decisa segretamente nelle sta
	nze\nistituzionali sempre più lontane dalle nostre esigenze\n\nQuesta non 
	è solo la nostra storia\, ma è una storia che riguarda tutte e tutti.\nNon
	 è un’eccezione\, ma la regola. La regola di un modello di sviluppo e gove
	rno\nche sistematicamente produce ingiustizie nella nostra Regione\, nel n
	ostro paese\ne nel mondo intero.\n\nContro questa imposizione il territori
	o è insorto\, e da ogni parte d'Italia ci è\narrivata solidarietà e sosteg
	no. Perché\, pur nelle specificità che ci\ncontraddistinguono\, riconoscia
	mo all’opera le stesse dinamiche di oppressione e\nlo stesso desiderio di 
	liberazione da un sistema che fa della devastazione\,\ndella precarietà e 
	della guerra un suo elemento costitutivo.\n\nAbbiamo imparato che nessunə 
	si salva da solə\, se toccano unə toccano tuttə.\n\nPer questo vi chiamiam
	o a insorgere con noi\, a farlo il 2 giugno tuttə insieme\,\nper sentire l
	e nostre voci levarsi insieme\, per sentire i nostri passi andare\nallo st
	esso ritmo\, per guardarci negli occhi e dirci che possiamo farcela se\nre
	stiamo insieme.\n\nInvitiamo chiunque si senta parte di questa lotta e vog
	lia partecipare con noi a\nquesta giornata a mandarci la propria adesione 
	alla mail:\nmovimentonobasepisa@gmail.com [movimentonobasepisa@gmail.com]\
	n\nPer aggiornarsi e partecipare ai prossimi appuntamenti (volantinaggi\, 
	banchini\netc) sui canali telegram.\n\nNEWS https://t.me/NoBaseNEWS [https
	://t.me/NoBaseNEWS]\n\nORGANIZZIAMOCI https://t.me/OrganizziamociNoBase\n[
	https://t.me/OrganizziamociNoBase]\n\nPer le info logistiche:\n\nIl percor
	so che abbiamo previsto è stata la sintesi di numerosi confronti\,\nabbiam
	o deciso di attraversare il territorio\, di iniziare a presidiare l'area\n
	destinata alla base\, abbiamo deciso di partire e di restare su Coltano!\n
	\nSiamo consapevoli che non sarà semplice raggiungere la frazione con i me
	zzi di\ntrasporto\, vi chiediamo sin da subito la massima collaborazione p
	er arrivare con\nmeno macchine possibili\, a noi la sfida di affrontare tu
	tte le difficoltà\nlogistiche mettendo a disposizione un servizio navetta 
	e i nostri mezzi per\npermettere a tuttə di esserci\, di starci\, di senti
	rsi parte.\n\nÈ per questo che non ci basta il corteo\, è per questo che i
	l borgo di Coltano\naprirà le sue porte dalle ore 11\, in questo modo ci d
	aremo l'occasione di stare\ninsieme e assodare quella comunità resistente 
	che è il movimento no base.\n\nTroverete cibo\, ristori e tutto quello di 
	cui avrete bisogno per affrontare il\npercorso nella giornata più calda de
	lla primavera.\n\nOre 14:30 si parte in cammino.\n\nScriviamo la storia\n\
	nPer i contatti scriveteci all’email movimentonobasepisa@gmail.com\n[movim
	entonobasepisa@gmail.com] o al numero 3711177310
URL:https://lapunta.org/event/2-giugno-manifestazione-nazionale-nessuna-bas
	e-per-nessuna-guerra-per-questo-per-altro-per-tutto
LOCATION:Villa medicea di Coltano - Via Palazzi 21\, Coltano - Pisa
STATUS:CONFIRMED
CATEGORIES:
X-ALT-DESC;FMTTYPE=text/html:<p>2 GIUGNO MANIFESTAZIONE NAZIONALE - NESSUNA
	 BASE PER NESSUNA GUERRA</p><p>PER QUESTO, PER ALTRO, PER TUTTO!</p><p> 19
	0 milioni di soldi pubblici per una nuova base militare. 73 ettari di terr
	itorio, all’interno di un parco naturale, sottratti alla comunità. 440.000
	 metri cubi cementificati per costruire piste di atterraggio, villette a s
	chiera per i militari del reggimento Tuscania, piscine, palestre, e altri 
	benefit.</p><p> Una nuova base in un territorio già insopportabilmente mil
	itarizzato che sta diventando uno strategico hub della guerra, decisa segr
	etamente nelle stanze istituzionali sempre più lontane dalle nostre esigen
	ze</p><p> Questa non è solo la nostra storia, ma è una storia che riguarda
	 tutte e tutti. Non è un’eccezione, ma la regola. La regola di un modello 
	di sviluppo e governo che sistematicamente produce ingiustizie nella nostr
	a Regione, nel nostro paese e nel mondo intero.</p><p> Contro questa impos
	izione il territorio è insorto, e da ogni parte d'Italia ci è arrivata sol
	idarietà e sostegno. Perché, pur nelle specificità che ci contraddistinguo
	no, riconosciamo all’opera le stesse dinamiche di oppressione e lo stesso 
	desiderio di liberazione da un sistema che fa della devastazione, della pr
	ecarietà e della guerra un suo elemento costitutivo.</p><p> Abbiamo impara
	to che nessunə si salva da solə, se toccano unə toccano tuttə.</p><p> Per 
	questo vi chiamiamo a insorgere con noi, a farlo il 2 giugno tuttə insieme
	, per sentire le nostre voci levarsi insieme, per sentire i nostri passi a
	ndare allo stesso ritmo, per guardarci negli occhi e dirci che possiamo fa
	rcela se restiamo insieme.</p><p> Invitiamo chiunque si senta parte di que
	sta lotta e voglia partecipare con noi a questa giornata a mandarci la pro
	pria adesione alla mail: <a href="mailto:movimentonobasepisa@gmail.com">mo
	vimentonobasepisa@gmail.com</a></p><p> Per aggiornarsi e partecipare ai pr
	ossimi appuntamenti (volantinaggi, banchini etc) sui canali telegram.</p><
	p>NEWS <a target="_blank" href="https://t.me/NoBaseNEWS">https://t.me/NoBa
	seNEWS</a></p><p>ORGANIZZIAMOCI <a target="_blank" href="https://t.me/Orga
	nizziamociNoBase">https://t.me/OrganizziamociNoBase</a></p><p> Per le info
	 logistiche:</p><p>Il percorso che abbiamo previsto è stata la sintesi di 
	numerosi confronti, abbiamo deciso di attraversare il territorio, di inizi
	are a presidiare l'area destinata alla base, abbiamo deciso di partire e d
	i restare su Coltano!</p><p> Siamo consapevoli che non sarà semplice raggi
	ungere la frazione con i mezzi di trasporto, vi chiediamo sin da subito la
	 massima collaborazione per arrivare con meno macchine possibili, a noi la
	 sfida di affrontare tutte le difficoltà logistiche mettendo a disposizion
	e un servizio navetta e i nostri mezzi per permettere a tuttə di esserci, 
	di starci, di sentirsi parte.</p><p>È per questo che non ci basta il corte
	o, è per questo che il borgo di Coltano aprirà le sue porte dalle ore 11, 
	in questo modo ci daremo l'occasione di stare insieme e assodare quella co
	munità resistente che è il movimento no base.</p><p> Troverete cibo, risto
	ri e tutto quello di cui avrete bisogno per affrontare il percorso nella g
	iornata più calda della primavera.</p><p> Ore 14:30 si parte in cammino.</
	p><p>Scriviamo la storia</p><p> Per i contatti scriveteci all’email <a hre
	f="mailto:movimentonobasepisa@gmail.com">movimentonobasepisa@gmail.com</a>
	 o al numero 3711177310</p>
END:VEVENT
END:VCALENDAR
